BEGIN:VCALENDAR
VERSION:2.0
PRODID:-//Charlie&#039;s Collectible Show - ECPv6.15.20//NONSGML v1.0//EN
CALSCALE:GREGORIAN
METHOD:PUBLISH
X-WR-CALNAME:Charlie&#039;s Collectible Show
X-ORIGINAL-URL:https://ccs-raleigh.com
X-WR-CALDESC:Events for Charlie&#039;s Collectible Show
REFRESH-INTERVAL;VALUE=DURATION:PT1H
X-Robots-Tag:noindex
X-PUBLISHED-TTL:PT1H
BEGIN:VTIMEZONE
TZID:America/New_York
BEGIN:DAYLIGHT
TZOFFSETFROM:-0500
TZOFFSETTO:-0400
TZNAME:EDT
DTSTART:20250309T070000
END:DAYLIGHT
BEGIN:STANDARD
TZOFFSETFROM:-0400
TZOFFSETTO:-0500
TZNAME:EST
DTSTART:20251102T060000
END:STANDARD
BEGIN:DAYLIGHT
TZOFFSETFROM:-0500
TZOFFSETTO:-0400
TZNAME:EDT
DTSTART:20260308T070000
END:DAYLIGHT
BEGIN:STANDARD
TZOFFSETFROM:-0400
TZOFFSETTO:-0500
TZNAME:EST
DTSTART:20261101T060000
END:STANDARD
BEGIN:DAYLIGHT
TZOFFSETFROM:-0500
TZOFFSETTO:-0400
TZNAME:EDT
DTSTART:20270314T070000
END:DAYLIGHT
BEGIN:STANDARD
TZOFFSETFROM:-0400
TZOFFSETTO:-0500
TZNAME:EST
DTSTART:20271107T060000
END:STANDARD
END:VTIMEZONE
BEGIN:VEVENT
DTSTART;TZID=America/New_York:20260502T100000
DTEND;TZID=America/New_York:20260503T170000
DTSTAMP:20260419T143956
CREATED:20260304T165517Z
LAST-MODIFIED:20260304T204203Z
UID:38812-1777716000-1777827600@ccs-raleigh.com
SUMMARY:Raleigh TCG Con VIII
DESCRIPTION:RALEIGH… the hobby feels different when the community shows up like this. 🃏🔥 \nMore cards. More vendors. More community. \nCCS returns fors Raleigh for TCG Con VIII\, bringing another full weekend dedicated to the hobby that connects us all. From serious collectors to first-time traders\, this is where binders open\, deals are made\, and the community comes together strong. \n  \n📅 Date & Time: May 2 | 10AM–6PM & Sunday May 3 | 12PM–5PM \n📍 Location: Triangle Town Center (in front of Macy’s) – Floors 1 & 2 \n🎟️ FREE Entry + FREE Parking \n\nWHY YOU DON’T WANT TO MISS THIS\n🃏 TCG Collector Marketplace! \nAn expanded TCG floor with 100+ vendors from Atlanta\, Raleigh\, Virginia & Texas locals! offering sealed product\, singles\, slabs\, and rare finds across: \nPokémon • Yu-Gi-Oh! • Magic: The Gathering • Lorcana • One Piece • Digimon • Weiss Schwarz • and more \nWhether you’re hunting grails\, upgrading binders\, or just browsing\, there’s something for every kind of collector. \n  \n⚡Buy\, Sell & Trade with the Community \nBring your trade binders\, meet fellow fans\, and discover cards you’ve been chasing. Raleigh TCG Con is where connections turn into collections. \n  \n⚡ Engage\, Exchange\, Elevate \nTrade binders. Forge connections. Discover the community you’ve been waiting for. This is more than a show — it’s a launch pad for Raleigh’s TCG scene. \n  \n💼 VENDORS — READY TO JOIN? \nApply here 👉 https://tinyurl.com/GuestVendorFormRaleigh \n  \n🏨 COMING FROM OUT OF TOWN? \nEnjoy a special rate of $105/night at Courtyard Marriott Raleigh\, only 5 minutes from the event. \n🔗 Book your stay 👉🏻 Here \n  \nRaleigh showed up for VII\, now it’s time to raise the bar. Bring your binders\, your grails\, and your crew. We hope to see you there!
URL:https://ccs-raleigh.com/events/raleigh-tcg-con-viii/
CATEGORIES:Trading Card Game
ATTACH;FMTTYPE=image/png:https://ccs-raleigh.com/wp-content/uploads/2026/03/Event-Launch-Kit-Raleigh-TCG-Con-VIII-1.png
END:VEVENT
BEGIN:VEVENT
DTSTART;TZID=America/New_York:20260411T100000
DTEND;TZID=America/New_York:20260412T170000
DTSTAMP:20260419T143956
CREATED:20260223T135739Z
LAST-MODIFIED:20260304T204156Z
UID:38641-1775901600-1776013200@ccs-raleigh.com
SUMMARY:Raleigh TCG Con VII
DESCRIPTION:🔥 CCS TCG Con VII is taking over Raleigh! 🔥 \nWhere collectors meet\, binders open\, and grails get found. \nTwo full days of cards\, community\, and collector culture! CCS TCG Con VII brings together 100+ vendors and passionate fans for a weekend built around the hobby we all love. Whether you’re buying\, selling\, trading\, grading\, or just vibing\, this is the spot to be. \n  \n📅 Date & Time: April 11 | 10AM–6PM & Sunday April 12 | 12PM–5PM \n📍 Location: Triangle Town Center (in front of Macy’s) – Floors 1 & 2 \n🎟️ FREE Entry + FREE Parking \n  \nWHAT TO EXPECT \n🃏 TCG Collector Marketplace! \nA massive TCG marketplace packed with 100+ Vendors from Atlanta\, Raleigh\, Virginia & Texas locals! \nPokémon • Yu-Gi-Oh! • Magic: The Gathering • Lorcana • One Piece • Digimon • Weiss Schwarz • and more \nFrom big-time grails to binder upgrades\, this is where Raleigh collectors come to hunt. \n⚡Buy\, Sell & Trade with the Community \nBring your trade binders\, meet fellow fans\, and discover cards you’ve been chasing. Raleigh TCG Con is where connections turn into collections. \n⚡ Engage\, Exchange\, Elevate \nTrade binders. Forge connections. Discover the community you’ve been waiting for. This is more than a show — it’s a launch pad for Raleigh’s TCG scene. \n  \n💼 VENDORS — WANT IN? \nApply to be part of TCG Con VII: 👉 https://tinyurl.com/GuestVendorFormRaleigh \n  \n🏨 Exclusive Hotel Accommodation \nEnjoy a special rate of $105/night at Courtyard Marriott Raleigh\, only 5 minutes from the event. \n🔗 Book your stay 👉🏻 Here \n  \nWhether you’re chasing a grail\, growing your collection\, or just enjoying the scene\, CCS TCG Con VII Raleigh is the place to be. \nBring your binders. Bring your friends. Bring the hype. \nWe’ll see you on the show floor 🃏🔥
URL:https://ccs-raleigh.com/events/raleigh-tcg-con-vii/
CATEGORIES:Trading Card Game
ATTACH;FMTTYPE=image/png:https://ccs-raleigh.com/wp-content/uploads/2026/02/1.png
END:VEVENT
END:VCALENDAR